BEGIN:VCALENDAR
VERSION:2.0
PRODID:-//Date iCal//NONSGML kigkonsult.se iCalcreator 2.20.2//
METHOD:PUBLISH
X-WR-CALNAME;VALUE=TEXT:UAW Kobol
BEGIN:VTIMEZONE
TZID:America/Detroit
BEGIN:STANDARD
DTSTART:20181104T020000
TZOFFSETFROM:-0400
TZOFFSETTO:-0500
TZNAME:EST
END:STANDARD
BEGIN:DAYLIGHT
DTSTART:20180311T020000
TZOFFSETFROM:-0500
TZOFFSETTO:-0400
RDATE:20190310T020000
TZNAME:EDT
END:DAYLIGHT
END:VTIMEZONE
BEGIN:VEVENT
UID:calendar.35444.field_oa_date.0@region8.uaw.org
DTSTAMP:20210502T234707Z
CREATED:20180717T002852Z
DTSTART;TZID=America/Detroit:20180909T140000
DTEND;TZID=America/Detroit:20180909T170000
LAST-MODIFIED:20180717T002852Z
SUMMARY:UAW Local 2069 Annual Picnic
URL;TYPE=URI:https://region8.uaw.org/uaw-local-2069/events/uaw-local-2069-a
 nnual-picnic
END:VEVENT
BEGIN:VEVENT
UID:calendar.35443.field_oa_date.0@region8.uaw.org
DTSTAMP:20210502T234707Z
CREATED:20180717T001809Z
DTSTART;VALUE=DATE:20180728
DTEND;VALUE=DATE:20180813
LAST-MODIFIED:20180717T001809Z
LOCATION:UAW Local 2069
SUMMARY:Summer Shutdown
URL;TYPE=URI:https://region8.uaw.org/uaw-local-2069/events/summer-shutdown
END:VEVENT
BEGIN:VEVENT
UID:calendar.35442.field_oa_date.0@region8.uaw.org
DTSTAMP:20210502T234707Z
CREATED:20180717T001400Z
DTSTART;VALUE=DATE:20180718
DTEND;VALUE=DATE:20180719
LAST-MODIFIED:20180717T001636Z
LOCATION:UAW Local 2069
RRULE:FREQ=WEEKLY;COUNT=52;INTERVAL=1;BYDAY=WE;WKST=SU
SUMMARY:Red Shirt Day
URL;TYPE=URI:https://region8.uaw.org/uaw-local-2069/events/red-shirt-day
END:VEVENT
END:VCALENDAR
